BEGIN:VCALENDAR
VERSION:2.0
PRODID:-//Portland Water District - ECPv6.11.2//NONSGML v1.0//EN
CALSCALE:GREGORIAN
METHOD:PUBLISH
X-ORIGINAL-URL:https://www.pwd.org
X-WR-CALDESC:Events for Portland Water District
REFRESH-INTERVAL;VALUE=DURATION:PT1H
X-Robots-Tag:noindex
X-PUBLISHED-TTL:PT1H
BEGIN:VTIMEZONE
TZID:America/New_York
BEGIN:DAYLIGHT
TZOFFSETFROM:-0500
TZOFFSETTO:-0400
TZNAME:EDT
DTSTART:20240310T070000
END:DAYLIGHT
BEGIN:STANDARD
TZOFFSETFROM:-0400
TZOFFSETTO:-0500
TZNAME:EST
DTSTART:20241103T060000
END:STANDARD
BEGIN:DAYLIGHT
TZOFFSETFROM:-0500
TZOFFSETTO:-0400
TZNAME:EDT
DTSTART:20250309T070000
END:DAYLIGHT
BEGIN:STANDARD
TZOFFSETFROM:-0400
TZOFFSETTO:-0500
TZNAME:EST
DTSTART:20251102T060000
END:STANDARD
END:VTIMEZONE
BEGIN:VEVENT
DTSTART;TZID=America/New_York:20251014T183000
DTEND;TZID=America/New_York:20251014T193000
DTSTAMP:20260421T044345
CREATED:20250103T141242Z
LAST-MODIFIED:20251028T190130Z
UID:10000050-1760466600-1760470200@www.pwd.org
SUMMARY:Trustee Workshop
DESCRIPTION:Workshop commences at 6:30 p.m. \n\n\n\nAll meetings are held at the Jeff P. Nixon Development Center at 225 Douglass Street\, Portland\, Maine\, unless otherwise advertised.
URL:https://www.pwd.org/event/trustee-workshop-10/
LOCATION:Jeff P. Nixon Development Center\, 225 Douglass Street\, Portland\, ME\, 04101\, United States
CATEGORIES:Trustee Meeting,Workshop
END:VEVENT
BEGIN:VEVENT
DTSTART;TZID=America/New_York:20250929T180000
DTEND;TZID=America/New_York:20250929T190000
DTSTAMP:20260421T044345
CREATED:20250103T141138Z
LAST-MODIFIED:20251028T190620Z
UID:10000061-1759168800-1759172400@www.pwd.org
SUMMARY:Trustee Meeting
DESCRIPTION:Meeting commences at 6:00 p.m. \n\n\n\nAll meetings are held at the Jeff P. Nixon Development Center at 225 Douglass Street\, Portland\, Maine\, unless otherwise advertised.
URL:https://www.pwd.org/event/trustee-meeting-10/
LOCATION:Jeff P. Nixon Development Center\, 225 Douglass Street\, Portland\, ME\, 04101\, United States
CATEGORIES:Regular Meeting,Trustee Meeting
END:VEVENT
BEGIN:VEVENT
DTSTART;TZID=America/New_York:20250908T183000
DTEND;TZID=America/New_York:20250908T193000
DTSTAMP:20260421T044345
CREATED:20250103T141051Z
LAST-MODIFIED:20250930T194846Z
UID:10000049-1757356200-1757359800@www.pwd.org
SUMMARY:Trustee Workshop
DESCRIPTION:Workshop commences at 6:30 p.m. \n\n\n\nAll meetings are held at the Jeff P. Nixon Development Center at 225 Douglass Street\, Portland\, Maine\, unless otherwise advertised.
URL:https://www.pwd.org/event/trustee-workshop-9/
LOCATION:Jeff P. Nixon Development Center\, 225 Douglass Street\, Portland\, ME\, 04101\, United States
CATEGORIES:Trustee Meeting,Workshop
END:VEVENT
BEGIN:VEVENT
DTSTART;TZID=America/New_York:20250825T180000
DTEND;TZID=America/New_York:20250825T190000
DTSTAMP:20260421T044345
CREATED:20250103T140939Z
LAST-MODIFIED:20250930T194730Z
UID:10000060-1756144800-1756148400@www.pwd.org
SUMMARY:Trustee Meeting
DESCRIPTION:Meeting commences at 6:00 p.m. \n\n\n\nAll meetings are held at the Jeff P. Nixon Development Center at 225 Douglass Street\, Portland\, Maine\, unless otherwise advertised.
URL:https://www.pwd.org/event/trustee-meeting-9/
LOCATION:Jeff P. Nixon Development Center\, 225 Douglass Street\, Portland\, ME\, 04101\, United States
CATEGORIES:Regular Meeting,Trustee Meeting
END:VEVENT
BEGIN:VEVENT
DTSTART;TZID=America/New_York:20250811T183000
DTEND;TZID=America/New_York:20250811T193000
DTSTAMP:20260421T044345
CREATED:20250103T140836Z
LAST-MODIFIED:20250826T192645Z
UID:10000048-1754937000-1754940600@www.pwd.org
SUMMARY:Trustee Workshop
DESCRIPTION:Workshop commences at 6:30 p.m. \n\n\n\nAll meetings are held at the Jeff P. Nixon Development Center at 225 Douglass Street\, Portland\, Maine\, unless otherwise advertised.
URL:https://www.pwd.org/event/trustee-workshop-8/
LOCATION:Jeff P. Nixon Development Center\, 225 Douglass Street\, Portland\, ME\, 04101\, United States
CATEGORIES:Trustee Meeting,Workshop
END:VEVENT
BEGIN:VEVENT
DTSTART;TZID=America/New_York:20250728T180000
DTEND;TZID=America/New_York:20250728T190000
DTSTAMP:20260421T044345
CREATED:20250103T140732Z
LAST-MODIFIED:20250826T193400Z
UID:10000059-1753725600-1753729200@www.pwd.org
SUMMARY:Trustee Meeting
DESCRIPTION:Meeting commences at 6:00 p.m. \n\n\n\nAll meetings are held at the Jeff P. Nixon Development Center at 225 Douglass Street\, Portland\, Maine\, unless otherwise advertised.
URL:https://www.pwd.org/event/trustee-meeting-8/
LOCATION:Jeff P. Nixon Development Center\, 225 Douglass Street\, Portland\, ME\, 04101\, United States
CATEGORIES:Regular Meeting,Trustee Meeting
END:VEVENT
BEGIN:VEVENT
DTSTART;TZID=America/New_York:20250714T183000
DTEND;TZID=America/New_York:20250714T193000
DTSTAMP:20260421T044345
CREATED:20250103T140600Z
LAST-MODIFIED:20250729T193346Z
UID:10000047-1752517800-1752521400@www.pwd.org
SUMMARY:Trustee Workshop
DESCRIPTION:Workshop commences at 6:30 p.m. \n\n\n\nAll meetings are held at the Jeff P. Nixon Development Center at 225 Douglass Street\, Portland\, Maine\, unless otherwise advertised.
URL:https://www.pwd.org/event/trustee-workshop-7/
LOCATION:Jeff P. Nixon Development Center\, 225 Douglass Street\, Portland\, ME\, 04101\, United States
CATEGORIES:Trustee Meeting,Workshop
END:VEVENT
BEGIN:VEVENT
DTSTART;TZID=America/New_York:20250623T180000
DTEND;TZID=America/New_York:20250623T190000
DTSTAMP:20260421T044345
CREATED:20250103T140545Z
LAST-MODIFIED:20250729T193446Z
UID:10000058-1750701600-1750705200@www.pwd.org
SUMMARY:Trustee Meeting
DESCRIPTION:Meeting commences at 6:00 p.m. \n\n\n\nAll meetings are held at the Jeff P. Nixon Development Center at 225 Douglass Street\, Portland\, Maine\, unless otherwise advertised.
URL:https://www.pwd.org/event/trustee-meeting-7/
LOCATION:Jeff P. Nixon Development Center\, 225 Douglass Street\, Portland\, ME\, 04101\, United States
CATEGORIES:Regular Meeting,Trustee Meeting
END:VEVENT
BEGIN:VEVENT
DTSTART;TZID=America/New_York:20250616T183000
DTEND;TZID=America/New_York:20250616T193000
DTSTAMP:20260421T044345
CREATED:20250103T140419Z
LAST-MODIFIED:20250624T141615Z
UID:10000046-1750098600-1750102200@www.pwd.org
SUMMARY:Trustee Workshop
DESCRIPTION:Workshop commences at 6:30 p.m. \n\n\n\nAll meetings are held at the Jeff P. Nixon Development Center at 225 Douglass Street\, Portland\, Maine\, unless otherwise advertised.
URL:https://www.pwd.org/event/trustee-workshop-6/
LOCATION:Jeff P. Nixon Development Center\, 225 Douglass Street\, Portland\, ME\, 04101\, United States
CATEGORIES:Trustee Meeting,Workshop
END:VEVENT
BEGIN:VEVENT
DTSTART;TZID=America/New_York:20250603T173000
DTEND;TZID=America/New_York:20250603T183000
DTSTAMP:20260421T044345
CREATED:20250502T210440Z
LAST-MODIFIED:20250502T210445Z
UID:10000081-1748971800-1748975400@www.pwd.org
SUMMARY:Every Drop Counts
DESCRIPTION:Tracking Your Water Quality Through The Water Cycle\n\n\n\n\nA public presentation by Paul Hunt\, Environmental Services Manager \n\n\n\n\nWhat’s really in your glass of water? \n\n\n\nJoin the Portland Water District for a presentation looking at the incredible journey each drop of water takes before it reaches your tap and after it goes down your drain. We’ll explain how we ensure it stays clean and safe every step of the way. \n\n\n\nFrom the highlands of Bethel to the deep waters of Sebago Lake\, through the Presumpscot River\, and out to Casco Bay\, water in Greater Portland is constantly on the move. We’ll show you how we detect even the tiniest shifts in water quality and protect the health of our communities and ecosystems. \n\n\n\nWater is constantly moving—raining from clouds\, flowing through forests\, streams\, and rivers\, and finally reaching the ocean. It then evaporates\, forms clouds\, and rains again\, creating an endless cycle. Whether you’re curious about where your water comes from and ends up\, passionate about the environment\, or want to know how science keeps your water safe\, this presentation will leave you with a deeper appreciation for our most essential resource\, water.
URL:https://www.pwd.org/event/every-drop-counts/2025-06-03/2/
LOCATION:Jeff P. Nixon Development Center\, 225 Douglass Street\, Portland\, ME\, 04101\, United States
CATEGORIES:Event
END:VEVENT
BEGIN:VEVENT
DTSTART;TZID=America/New_York:20250603T133000
DTEND;TZID=America/New_York:20250603T143000
DTSTAMP:20260421T044345
CREATED:20250502T210440Z
LAST-MODIFIED:20250502T210445Z
UID:10000080-1748957400-1748961000@www.pwd.org
SUMMARY:Every Drop Counts
DESCRIPTION:Tracking Your Water Quality Through The Water Cycle\n\n\n\n\nA public presentation by Paul Hunt\, Environmental Services Manager \n\n\n\n\nWhat’s really in your glass of water? \n\n\n\nJoin the Portland Water District for a presentation looking at the incredible journey each drop of water takes before it reaches your tap and after it goes down your drain. We’ll explain how we ensure it stays clean and safe every step of the way. \n\n\n\nFrom the highlands of Bethel to the deep waters of Sebago Lake\, through the Presumpscot River\, and out to Casco Bay\, water in Greater Portland is constantly on the move. We’ll show you how we detect even the tiniest shifts in water quality and protect the health of our communities and ecosystems. \n\n\n\nWater is constantly moving—raining from clouds\, flowing through forests\, streams\, and rivers\, and finally reaching the ocean. It then evaporates\, forms clouds\, and rains again\, creating an endless cycle. Whether you’re curious about where your water comes from and ends up\, passionate about the environment\, or want to know how science keeps your water safe\, this presentation will leave you with a deeper appreciation for our most essential resource\, water.
URL:https://www.pwd.org/event/every-drop-counts/2025-06-03/1/
LOCATION:Jeff P. Nixon Development Center\, 225 Douglass Street\, Portland\, ME\, 04101\, United States
CATEGORIES:Event
END:VEVENT
BEGIN:VEVENT
DTSTART;TZID=America/New_York:20250527T180000
DTEND;TZID=America/New_York:20250527T190000
DTSTAMP:20260421T044345
CREATED:20250103T135929Z
LAST-MODIFIED:20250624T140813Z
UID:10000057-1748368800-1748372400@www.pwd.org
SUMMARY:Trustee Meeting
DESCRIPTION:Meeting commences at 6:00 p.m. \n\n\n\nAll meetings are held at the Jeff P. Nixon Development Center at 225 Douglass Street\, Portland\, Maine\, unless otherwise advertised.
URL:https://www.pwd.org/event/trustee-meeting-6/
LOCATION:Jeff P. Nixon Development Center\, 225 Douglass Street\, Portland\, ME\, 04101\, United States
CATEGORIES:Regular Meeting,Trustee Meeting
END:VEVENT
BEGIN:VEVENT
DTSTART;TZID=America/New_York:20250512T183000
DTEND;TZID=America/New_York:20250512T193000
DTSTAMP:20260421T044345
CREATED:20250103T135814Z
LAST-MODIFIED:20250603T224108Z
UID:10000045-1747074600-1747078200@www.pwd.org
SUMMARY:Trustee Workshop
DESCRIPTION:Workshop commences at 6:30 p.m. \n\n\n\nAll meetings are held at the Jeff P. Nixon Development Center at 225 Douglass Street\, Portland\, Maine\, unless otherwise advertised.
URL:https://www.pwd.org/event/trustee-workshop-5/
LOCATION:Jeff P. Nixon Development Center\, 225 Douglass Street\, Portland\, ME\, 04101\, United States
CATEGORIES:Trustee Meeting,Workshop
END:VEVENT
BEGIN:VEVENT
DTSTART;TZID=America/New_York:20250508T173000
DTEND;TZID=America/New_York:20250508T183000
DTSTAMP:20260421T044345
CREATED:20250331T154728Z
LAST-MODIFIED:20250331T160823Z
UID:10000068-1746725400-1746729000@www.pwd.org
SUMMARY:1\,200 Miles of Pipe
DESCRIPTION:A deep dive into the making of greater Portland’s public water system\n\n\n\n\nA public presentation by Paul Hunt\, Environmental Services Manager \n\n\n\n\nThe Portland Water District (PWD) is a century-old company\, rich in history and experience. In 1862\, visionary citizens recognized a growing need for reliable water and founded the Portland Water Company and by 1869\, Sebago Lake’s water flowed into Portland. Early water was not without challenges or controversy and in 1908\, the Portland Water District was formed to assume the private company. As Greater Portland transformed into an industrial powerhouse\, public water service expanded\, and water and wastewater treatment facilities were built to meet rising demands and regulations. Over a century\, innovative upgrades and rigorous environmental standards ensured a steady supply of pure\, safe water and environmental stewardship. Today\, we celebrate a legacy of progress\, community\, and pride in water services. \n\n\n\n\nLight refreshments will be served.\n\n\n\nEach attendee’s name will be put into a drawing to win the book\, “Drink It In\, How Sebago Lake Became Portland’s Greatest Asset” by Barbara J. Brewer (a former PWD employee and historian).
URL:https://www.pwd.org/event/1200-miles-of-pipe/2025-05-08/2/
LOCATION:Jeff P. Nixon Development Center\, 225 Douglass Street\, Portland\, ME\, 04101\, United States
END:VEVENT
BEGIN:VEVENT
DTSTART;TZID=America/New_York:20250508T133000
DTEND;TZID=America/New_York:20250508T143000
DTSTAMP:20260421T044345
CREATED:20250331T154728Z
LAST-MODIFIED:20250331T160823Z
UID:10000067-1746711000-1746714600@www.pwd.org
SUMMARY:1\,200 Miles of Pipe
DESCRIPTION:A deep dive into the making of greater Portland’s public water system\n\n\n\n\nA public presentation by Paul Hunt\, Environmental Services Manager \n\n\n\n\nThe Portland Water District (PWD) is a century-old company\, rich in history and experience. In 1862\, visionary citizens recognized a growing need for reliable water and founded the Portland Water Company and by 1869\, Sebago Lake’s water flowed into Portland. Early water was not without challenges or controversy and in 1908\, the Portland Water District was formed to assume the private company. As Greater Portland transformed into an industrial powerhouse\, public water service expanded\, and water and wastewater treatment facilities were built to meet rising demands and regulations. Over a century\, innovative upgrades and rigorous environmental standards ensured a steady supply of pure\, safe water and environmental stewardship. Today\, we celebrate a legacy of progress\, community\, and pride in water services. \n\n\n\n\nLight refreshments will be served.\n\n\n\nEach attendee’s name will be put into a drawing to win the book\, “Drink It In\, How Sebago Lake Became Portland’s Greatest Asset” by Barbara J. Brewer (a former PWD employee and historian).
URL:https://www.pwd.org/event/1200-miles-of-pipe/2025-05-08/1/
LOCATION:Jeff P. Nixon Development Center\, 225 Douglass Street\, Portland\, ME\, 04101\, United States
END:VEVENT
BEGIN:VEVENT
DTSTART;TZID=America/New_York:20250428T180000
DTEND;TZID=America/New_York:20250428T190000
DTSTAMP:20260421T044345
CREATED:20250103T135732Z
LAST-MODIFIED:20250603T223852Z
UID:10000056-1745863200-1745866800@www.pwd.org
SUMMARY:Trustee Meeting
DESCRIPTION:Meeting commences at 6:00 p.m. \n\n\n\nAll meetings are held at the Jeff P. Nixon Development Center at 225 Douglass Street\, Portland\, Maine\, unless otherwise advertised.
URL:https://www.pwd.org/event/trustee-meeting-5/
LOCATION:Jeff P. Nixon Development Center\, 225 Douglass Street\, Portland\, ME\, 04101\, United States
CATEGORIES:Regular Meeting,Trustee Meeting
END:VEVENT
BEGIN:VEVENT
DTSTART;TZID=America/New_York:20250414T183000
DTEND;TZID=America/New_York:20250414T193000
DTSTAMP:20260421T044345
CREATED:20250103T135602Z
LAST-MODIFIED:20250429T173749Z
UID:10000044-1744655400-1744659000@www.pwd.org
SUMMARY:Trustee Workshop
DESCRIPTION:Workshop commences at 6:30 p.m. \n\n\n\nAll meetings are held at the Jeff P. Nixon Development Center at 225 Douglass Street\, Portland\, Maine\, unless otherwise advertised.
URL:https://www.pwd.org/event/trustee-workshop-4/
LOCATION:Jeff P. Nixon Development Center\, 225 Douglass Street\, Portland\, ME\, 04101\, United States
CATEGORIES:Trustee Meeting,Workshop
END:VEVENT
BEGIN:VEVENT
DTSTART;TZID=America/New_York:20250408T173000
DTEND;TZID=America/New_York:20250408T193000
DTSTAMP:20260421T044345
CREATED:20250331T162924Z
LAST-MODIFIED:20250402T133454Z
UID:10000071-1744133400-1744140600@www.pwd.org
SUMMARY:Notice of Meeting
DESCRIPTION:The General Manager’s Succession Planning Sub-Committee will meet on Tuesday\, April 8\, 2025\, in the Nixon Room at the offices of the Portland Water District\, 225 Douglass Street\, Portland\, starting at 5:30 p.m. The meeting will be in executive session pursuant to 1 M.R.S. §405 (6) (A) a personnel matter\, and 30-A M.R.S. §2702 discussion of General Manager applications.
URL:https://www.pwd.org/event/notice-of-meeting/
LOCATION:Jeff P. Nixon Development Center\, 225 Douglass Street\, Portland\, ME\, 04101\, United States
CATEGORIES:General Manager's Selection Committee,Trustee Meeting
END:VEVENT
BEGIN:VEVENT
DTSTART;TZID=America/New_York:20250324T180000
DTEND;TZID=America/New_York:20250324T190000
DTSTAMP:20260421T044345
CREATED:20250103T135552Z
LAST-MODIFIED:20250429T173344Z
UID:10000055-1742839200-1742842800@www.pwd.org
SUMMARY:Trustee Meeting
DESCRIPTION:Meeting commences at 6:00 p.m. \n\n\n\nAll meetings are held at the Jeff P. Nixon Development Center at 225 Douglass Street\, Portland\, Maine\, unless otherwise advertised.
URL:https://www.pwd.org/event/trustee-meeting-4/
LOCATION:Jeff P. Nixon Development Center\, 225 Douglass Street\, Portland\, ME\, 04101\, United States
CATEGORIES:Regular Meeting,Trustee Meeting
END:VEVENT
BEGIN:VEVENT
DTSTART;TZID=America/New_York:20250310T183000
DTEND;TZID=America/New_York:20250310T193000
DTSTAMP:20260421T044345
CREATED:20250103T135419Z
LAST-MODIFIED:20250326T122223Z
UID:10000043-1741631400-1741635000@www.pwd.org
SUMMARY:Trustee Workshop
DESCRIPTION:Workshop commences at 6:30 p.m. \n\n\n\nAll meetings are held at the Jeff P. Nixon Development Center at 225 Douglass Street\, Portland\, Maine\, unless otherwise advertised.
URL:https://www.pwd.org/event/trustee-workshop-3/
LOCATION:Jeff P. Nixon Development Center\, 225 Douglass Street\, Portland\, ME\, 04101\, United States
CATEGORIES:Trustee Meeting,Workshop
END:VEVENT
BEGIN:VEVENT
DTSTART;TZID=America/New_York:20250224T180000
DTEND;TZID=America/New_York:20250224T190000
DTSTAMP:20260421T044345
CREATED:20250103T134927Z
LAST-MODIFIED:20250326T123824Z
UID:10000054-1740420000-1740423600@www.pwd.org
SUMMARY:Trustee Meeting
DESCRIPTION:When: 6:00 p.m. \n\n\n\nWhere: Jeff P. Nixon Development Center\n\n\n\n225 Douglass StreetPortland\, Maine
URL:https://www.pwd.org/event/trustee-meeting-3/
LOCATION:Jeff P. Nixon Development Center\, 225 Douglass Street\, Portland\, ME\, 04101\, United States
CATEGORIES:Regular Meeting,Trustee Meeting
END:VEVENT
BEGIN:VEVENT
DTSTART;TZID=America/New_York:20250210T183000
DTEND;TZID=America/New_York:20250210T193000
DTSTAMP:20260421T044345
CREATED:20250103T134820Z
LAST-MODIFIED:20250225T165020Z
UID:10000042-1739212200-1739215800@www.pwd.org
SUMMARY:Trustee Workshop
DESCRIPTION:Workshop commences at 6:30 p.m. \n\n\n\nAll meetings are held at the Jeff P. Nixon Development Center at 225 Douglass Street\, Portland\, Maine\, unless otherwise advertised.
URL:https://www.pwd.org/event/trustee-workshop-2/
LOCATION:Jeff P. Nixon Development Center\, 225 Douglass Street\, Portland\, ME\, 04101\, United States
CATEGORIES:Trustee Meeting,Workshop
END:VEVENT
BEGIN:VEVENT
DTSTART;TZID=America/New_York:20250127T180000
DTEND;TZID=America/New_York:20250127T190000
DTSTAMP:20260421T044345
CREATED:20250103T132141Z
LAST-MODIFIED:20250225T164726Z
UID:10000053-1738000800-1738004400@www.pwd.org
SUMMARY:Trustee Meeting
DESCRIPTION:Meeting commences at 6:00 p.m. \n\n\n\nAll meetings are held at the Jeff P. Nixon Development Center at 225 Douglass Street\, Portland\, Maine\, unless otherwise advertised.
URL:https://www.pwd.org/event/trustee-meeting-2/
LOCATION:Jeff P. Nixon Development Center\, 225 Douglass Street\, Portland\, ME\, 04101\, United States
CATEGORIES:Regular Meeting,Trustee Meeting
END:VEVENT
BEGIN:VEVENT
DTSTART;TZID=America/New_York:20250113T183000
DTEND;TZID=America/New_York:20250113T193000
DTSTAMP:20260421T044345
CREATED:20250103T132057Z
LAST-MODIFIED:20250205T020905Z
UID:10000041-1736793000-1736796600@www.pwd.org
SUMMARY:Trustee Workshop
DESCRIPTION:Workshop commences at 6:30 p.m. \n\n\n\nAll meetings are held at the Jeff P. Nixon Development Center at 225 Douglass Street\, Portland\, Maine\, unless otherwise advertised.
URL:https://www.pwd.org/event/trustee-workshop/
LOCATION:Jeff P. Nixon Development Center\, 225 Douglass Street\, Portland\, ME\, 04101\, United States
CATEGORIES:Trustee Meeting,Workshop
END:VEVENT
BEGIN:VEVENT
DTSTART;TZID=America/New_York:20241216T183000
DTEND;TZID=America/New_York:20241216T193000
DTSTAMP:20260421T044345
CREATED:20250110T170904Z
LAST-MODIFIED:20250205T020555Z
UID:10000065-1734373800-1734377400@www.pwd.org
SUMMARY:December 16th 2024 Trustee Meeting
DESCRIPTION:Meeting commences at 6:30 p.m. \n\n\n\nAll meetings are held at the Jeff P. Nixon Development Center at 225 Douglass Street\, Portland\, Maine\, unless otherwise advertised.
URL:https://www.pwd.org/event/december-16th-2024-trustee-meeting/
LOCATION:Jeff P. Nixon Development Center\, 225 Douglass Street\, Portland\, ME\, 04101\, United States
CATEGORIES:Regular Meeting,Trustee Meeting
END:VEVENT
BEGIN:VEVENT
DTSTART;TZID=America/New_York:20241216T180000
DTEND;TZID=America/New_York:20241216T183000
DTSTAMP:20260421T044345
CREATED:20250110T171332Z
LAST-MODIFIED:20250110T171335Z
UID:10000066-1734372000-1734373800@www.pwd.org
SUMMARY:December 16th 2024 Special Meeting
DESCRIPTION:Meeting commences at 6:00 p.m. \n\n\n\nAll meetings are held at the Jeff P. Nixon Development Center at 225 Douglass Street\, Portland\, Maine\, unless otherwise advertised.
URL:https://www.pwd.org/event/december-16th-2024-special-meeting/
LOCATION:Jeff P. Nixon Development Center\, 225 Douglass Street\, Portland\, ME\, 04101\, United States
CATEGORIES:Special Meeting,Trustee Meeting
END:VEVENT
BEGIN:VEVENT
DTSTART;TZID=America/New_York:20241209T180000
DTEND;TZID=America/New_York:20241209T183000
DTSTAMP:20260421T044345
CREATED:20241101T171914Z
LAST-MODIFIED:20250110T165401Z
UID:10000034-1733767200-1733769000@www.pwd.org
SUMMARY:December 9th 2024 Trustee Meeting
DESCRIPTION:Meeting commences at 6:00 p.m. \n\n\n\nAll meetings are held at the Jeff P. Nixon Development Center at 225 Douglass Street\, Portland\, Maine\, unless otherwise advertised.
URL:https://www.pwd.org/event/december-9th-2024-trustee-meeting/
LOCATION:Jeff P. Nixon Development Center\, 225 Douglass Street\, Portland\, ME\, 04101\, United States
CATEGORIES:Trustee Meeting,Workshop
END:VEVENT
BEGIN:VEVENT
DTSTART;TZID=America/New_York:20241125T180000
DTEND;TZID=America/New_York:20241125T183000
DTSTAMP:20260421T044345
CREATED:20241101T171821Z
LAST-MODIFIED:20250110T170413Z
UID:10000033-1732557600-1732559400@www.pwd.org
SUMMARY:November 25th 2024 Trustee Meeting
DESCRIPTION:
URL:https://www.pwd.org/event/november-25th-2024-trustee-meeting/
LOCATION:Jeff P. Nixon Development Center\, 225 Douglass Street\, Portland\, ME\, 04101\, United States
CATEGORIES:Regular Meeting,Trustee Meeting
END:VEVENT
BEGIN:VEVENT
DTSTART;TZID=America/New_York:20241120T180000
DTEND;TZID=America/New_York:20241120T183000
DTSTAMP:20260421T044345
CREATED:20241210T143335Z
LAST-MODIFIED:20241210T143337Z
UID:10000040-1732125600-1732127400@www.pwd.org
SUMMARY:November 20th 2024 General Manager's Selection Committee
DESCRIPTION:
URL:https://www.pwd.org/event/november-20th-2024-general-managers-selection-committee/
LOCATION:Jeff P. Nixon Development Center\, 225 Douglass Street\, Portland\, ME\, 04101\, United States
CATEGORIES:General Manager's Selection Committee,Trustee Meeting
END:VEVENT
BEGIN:VEVENT
DTSTART;TZID=America/New_York:20241113T180000
DTEND;TZID=America/New_York:20241113T183000
DTSTAMP:20260421T044345
CREATED:20241210T135133Z
LAST-MODIFIED:20241210T140336Z
UID:10000039-1731520800-1731522600@www.pwd.org
SUMMARY:November 13th 2024 General Manager's Selection Committee
DESCRIPTION:
URL:https://www.pwd.org/event/november-13th-2024-general-managers-selection-committee/
LOCATION:Jeff P. Nixon Development Center\, 225 Douglass Street\, Portland\, ME\, 04101\, United States
CATEGORIES:General Manager's Selection Committee,Trustee Meeting
END:VEVENT
END:VCALENDAR