BEGIN:VCALENDAR
VERSION:2.0
PRODID:-//Portland Water District - ECPv6.11.2//NONSGML v1.0//EN
CALSCALE:GREGORIAN
METHOD:PUBLISH
X-WR-CALNAME:Portland Water District
X-ORIGINAL-URL:https://www.pwd.org
X-WR-CALDESC:Events for Portland Water District
REFRESH-INTERVAL;VALUE=DURATION:PT1H
X-Robots-Tag:noindex
X-PUBLISHED-TTL:PT1H
BEGIN:VTIMEZONE
TZID:America/New_York
BEGIN:DAYLIGHT
TZOFFSETFROM:-0500
TZOFFSETTO:-0400
TZNAME:EDT
DTSTART:20240310T070000
END:DAYLIGHT
BEGIN:STANDARD
TZOFFSETFROM:-0400
TZOFFSETTO:-0500
TZNAME:EST
DTSTART:20241103T060000
END:STANDARD
END:VTIMEZONE
BEGIN:VEVENT
DTSTART;TZID=America/New_York:20241015T180000
DTEND;TZID=America/New_York:20241015T183000
DTSTAMP:20260421T102900
CREATED:20241101T170736Z
LAST-MODIFIED:20241101T170737Z
UID:10000030-1729015200-1729017000@www.pwd.org
SUMMARY:October 15th 2024 Trustee Meeting
DESCRIPTION:
URL:https://www.pwd.org/event/october-15th-2024-trustee-meeting/
LOCATION:Jeff P. Nixon Development Center\, 225 Douglass Street\, Portland\, ME\, 04101\, United States
CATEGORIES:Trustee Meeting,Workshop
END:VEVENT
BEGIN:VEVENT
DTSTART;TZID=America/New_York:20241023T180000
DTEND;TZID=America/New_York:20241023T183000
DTSTAMP:20260421T102900
CREATED:20241101T171002Z
LAST-MODIFIED:20241101T171003Z
UID:10000031-1729706400-1729708200@www.pwd.org
SUMMARY:October 23rd 2024 Trustee Meeting
DESCRIPTION:
URL:https://www.pwd.org/event/october-23rd-2024-trustee-meeting/
LOCATION:Jeff P. Nixon Development Center\, 225 Douglass Street\, Portland\, ME\, 04101\, United States
CATEGORIES:General Manager's Selection Committee,Trustee Meeting
END:VEVENT
BEGIN:VEVENT
DTSTART;TZID=America/New_York:20241028T180000
DTEND;TZID=America/New_York:20241028T183000
DTSTAMP:20260421T102900
CREATED:20241101T171247Z
LAST-MODIFIED:20250502T175608Z
UID:10000032-1730138400-1730140200@www.pwd.org
SUMMARY:October 28th 2024 Trustee Meeting
DESCRIPTION:
URL:https://www.pwd.org/event/october-28th-2024-trustee-meeting/
LOCATION:Jeff P. Nixon Development Center\, 225 Douglass Street\, Portland\, ME\, 04101\, United States
CATEGORIES:Regular Meeting,Trustee Meeting
END:VEVENT
END:VCALENDAR